BEGIN:VCALENDAR
VERSION:2.0
PRODID:-//192.232.223.72//NONSGML kigkonsult.se iCalcreator 2.20//
CALSCALE:GREGORIAN
METHOD:PUBLISH
X-WR-CALNAME:Greater Glen Eden
X-WR-CALDESC:Greater Glen Eden Community Website
X-FROM-URL:http://greatergleneden.org.nz
X-WR-TIMEZONE:Pacific/Auckland
BEGIN:VTIMEZONE
TZID:Pacific/Auckland
X-LIC-LOCATION:Pacific/Auckland
BEGIN:STANDARD
DTSTART:20180401T030000
TZOFFSETFROM:+1300
TZOFFSETTO:+1200
TZNAME:NZST
END:STANDARD
BEGIN:DAYLIGHT
DTSTART:20170924T020000
TZOFFSETFROM:+1200
TZOFFSETTO:+1300
TZNAME:NZDT
END:DAYLIGHT
END:VTIMEZONE
BEGIN:VEVENT
UID:ai1ec-123@greatergleneden.org.nz
DTSTAMP:20180124T113812Z
CATEGORIES:
CONTACT:Kay Lindley\; 027 274 2280\; kaylindley@xtra.co.nz
DESCRIPTION:A4 Poster
DTSTART;TZID=Pacific/Auckland:20151001T103000
DTEND;TZID=Pacific/Auckland:20151001T133000
GEO:-36.913989;+174.649208
LOCATION:Glenora Rugby League Club @ 50 Glendale Rd\, Glen Eden\, Auckland 
 0602\, New Zealand
SEQUENCE:0
SUMMARY:Glen Eden Goes Gold
URL:http://greatergleneden.org.nz/event/123/
X-ALT-DESC;FMTTYPE=text/html:<!DOCTYPE HTML PUBLIC '-//W3C//DTD HTML 3.2//E
 N'>\\n<HTML>\\n<HEAD>\\n<TITLE></TITLE>\\n</HEAD>\\n<BODY><p><a href='http
 ://greatergleneden.org.nz/wp-content/uploads/2015/09/A4-Poster.pdf'>A4 Pos
 ter</a></p>\n</BODY></HTML>
END:VEVENT
END:VCALENDAR
