BEGIN:VCALENDAR
VERSION:2.0
PRODID:-//192.232.223.72//NONSGML kigkonsult.se iCalcreator 2.20//
CALSCALE:GREGORIAN
METHOD:PUBLISH
X-WR-CALNAME:Greater Glen Eden
X-WR-CALDESC:Greater Glen Eden Community Website
X-FROM-URL:http://greatergleneden.org.nz
X-WR-TIMEZONE:Pacific/Auckland
BEGIN:VTIMEZONE
TZID:Pacific/Auckland
X-LIC-LOCATION:Pacific/Auckland
BEGIN:STANDARD
DTSTART:20180401T030000
TZOFFSETFROM:+1300
TZOFFSETTO:+1200
TZNAME:NZST
END:STANDARD
BEGIN:DAYLIGHT
DTSTART:20170924T020000
TZOFFSETFROM:+1200
TZOFFSETTO:+1300
TZNAME:NZDT
END:DAYLIGHT
END:VTIMEZONE
BEGIN:VEVENT
UID:ai1ec-135@greatergleneden.org.nz
DTSTAMP:20180124T114011Z
CATEGORIES:
CONTACT:Teena Haddon\; 027 223 7701\; teenah@value.net.nz
DESCRIPTION:
DTSTART;TZID=Pacific/Auckland:20151107T180000
DTEND;TZID=Pacific/Auckland:20151107T220000
GEO:-36.885599;+174.631454
LOCATION:Henderson RSA @ Railside Ave\, Henderson\, Auckland 0612\, New Zea
 land
SEQUENCE:0
SUMMARY:Waterhold Swimming Club Quiz Night Fundraiser
URL:http://greatergleneden.org.nz/event/waterhold-swimming-club-quiz-night-
 fundraiser/
X-COST:$30
END:VEVENT
END:VCALENDAR
