BEGIN:VCALENDAR
VERSION:2.0
PRODID:-//192.232.223.72//NONSGML kigkonsult.se iCalcreator 2.20//
CALSCALE:GREGORIAN
METHOD:PUBLISH
X-WR-CALNAME:Greater Glen Eden
X-WR-CALDESC:Greater Glen Eden Community Website
X-FROM-URL:http://greatergleneden.org.nz
X-WR-TIMEZONE:Pacific/Auckland
BEGIN:VTIMEZONE
TZID:Pacific/Auckland
X-LIC-LOCATION:Pacific/Auckland
BEGIN:STANDARD
DTSTART:20180401T030000
TZOFFSETFROM:+1300
TZOFFSETTO:+1200
TZNAME:NZST
END:STANDARD
BEGIN:DAYLIGHT
DTSTART:20170924T020000
TZOFFSETFROM:+1200
TZOFFSETTO:+1300
TZNAME:NZDT
END:DAYLIGHT
END:VTIMEZONE
BEGIN:VEVENT
UID:ai1ec-137@greatergleneden.org.nz
DTSTAMP:20180124T113947Z
CATEGORIES:
CONTACT:Leanne Appleby\; 098182194\; http://www.glenedencommunityhouse.co.n
 z
DESCRIPTION:
DTSTART;TZID=Pacific/Auckland:20151021T190000
DTEND;TZID=Pacific/Auckland:20151021T214500
GEO:-36.91563;+174.637159
LOCATION:Glen Eden Community House @ 13 Pisces Rd\, Glen Eden\, Auckland 06
 02\, New Zealand
SEQUENCE:0
SUMMARY:Glen Eden Community House AGM
URL:http://greatergleneden.org.nz/event/glen-eden-community-house-agm/
END:VEVENT
END:VCALENDAR
