BEGIN:VCALENDAR
VERSION:2.0
PRODID:-//192.232.223.72//NONSGML kigkonsult.se iCalcreator 2.20//
CALSCALE:GREGORIAN
METHOD:PUBLISH
X-WR-CALNAME:Greater Glen Eden
X-WR-CALDESC:Greater Glen Eden Community Website
X-FROM-URL:http://greatergleneden.org.nz
X-WR-TIMEZONE:Pacific/Auckland
BEGIN:VTIMEZONE
TZID:Pacific/Auckland
X-LIC-LOCATION:Pacific/Auckland
BEGIN:STANDARD
DTSTART:20180401T030000
TZOFFSETFROM:+1300
TZOFFSETTO:+1200
TZNAME:NZST
END:STANDARD
BEGIN:DAYLIGHT
DTSTART:20170924T020000
TZOFFSETFROM:+1200
TZOFFSETTO:+1300
TZNAME:NZDT
END:DAYLIGHT
END:VTIMEZONE
BEGIN:VEVENT
UID:ai1ec-138@greatergleneden.org.nz
DTSTAMP:20180124T113959Z
CATEGORIES:
CONTACT:Tracy McIntyre\; 839 0512\; office@waitakerehealthlink.org.nz\; htt
 p://www.waitakerehealthlink.org.nz
DESCRIPTION:
DTSTART;TZID=Pacific/Auckland:20151103T113000
DTEND;TZID=Pacific/Auckland:20151103T140000
GEO:-36.870317;+174.628306
LOCATION:Foyer of Waitakere Hospital @ 55 Lincoln Rd\, Henderson\, Auckland
  0610\, New Zealand
SEQUENCE:0
SUMMARY:Community Health ‘Open Day’
URL:http://greatergleneden.org.nz/event/community-health-open-day/
END:VEVENT
END:VCALENDAR
