BEGIN:VCALENDAR
VERSION:2.0
PRODID:-//192.232.223.72//NONSGML kigkonsult.se iCalcreator 2.20//
CALSCALE:GREGORIAN
METHOD:PUBLISH
X-WR-CALNAME:Greater Glen Eden
X-WR-CALDESC:Greater Glen Eden Community Website
X-FROM-URL:http://greatergleneden.org.nz
X-WR-TIMEZONE:Pacific/Auckland
BEGIN:VTIMEZONE
TZID:Pacific/Auckland
X-LIC-LOCATION:Pacific/Auckland
BEGIN:STANDARD
DTSTART:20180401T030000
TZOFFSETFROM:+1300
TZOFFSETTO:+1200
TZNAME:NZST
END:STANDARD
BEGIN:DAYLIGHT
DTSTART:20170924T020000
TZOFFSETFROM:+1200
TZOFFSETTO:+1300
TZNAME:NZDT
END:DAYLIGHT
END:VTIMEZONE
BEGIN:VEVENT
UID:ai1ec-148@greatergleneden.org.nz
DTSTAMP:20180124T114021Z
CATEGORIES:
CONTACT:
DESCRIPTION:
DTSTART;TZID=Pacific/Auckland:20151126T120000
DTEND;TZID=Pacific/Auckland:20151126T160000
GEO:-36.910735;+174.651628
LOCATION:Outside Glen Eden Library @ Glenmall Pl\, Glen Eden\, Auckland 060
 2\, New Zealand
SEQUENCE:0
SUMMARY:White Ribbon Free Sausage Sizzle
URL:http://greatergleneden.org.nz/event/white-ribbon-free-sausage-sizzle/
END:VEVENT
END:VCALENDAR
