BEGIN:VCALENDAR
VERSION:2.0
PRODID:-//192.232.223.72//NONSGML kigkonsult.se iCalcreator 2.20//
CALSCALE:GREGORIAN
METHOD:PUBLISH
X-WR-CALNAME:Greater Glen Eden
X-WR-CALDESC:Greater Glen Eden Community Website
X-FROM-URL:http://greatergleneden.org.nz
X-WR-TIMEZONE:Pacific/Auckland
BEGIN:VTIMEZONE
TZID:Pacific/Auckland
X-LIC-LOCATION:Pacific/Auckland
BEGIN:STANDARD
DTSTART:20180401T030000
TZOFFSETFROM:+1300
TZOFFSETTO:+1200
TZNAME:NZST
END:STANDARD
BEGIN:DAYLIGHT
DTSTART:20170924T020000
TZOFFSETFROM:+1200
TZOFFSETTO:+1300
TZNAME:NZDT
END:DAYLIGHT
END:VTIMEZONE
BEGIN:VEVENT
UID:ai1ec-149@greatergleneden.org.nz
DTSTAMP:20180124T113539Z
CATEGORIES:
CONTACT:Gayle Marshall
DESCRIPTION:
DTSTART;VALUE=DATE:20160228
DTEND;VALUE=DATE:20160229
GEO:+41.691161;-85.017187
LOCATION:Waikumete Cemetary
SEQUENCE:0
SUMMARY:Demistifying Death – Open Day at Waikumete Cemetary
URL:http://greatergleneden.org.nz/event/demistifying-death-open-day-at-waik
 umete-cemetary/
END:VEVENT
END:VCALENDAR
