BEGIN:VCALENDAR
VERSION:2.0
PRODID:-//192.232.223.72//NONSGML kigkonsult.se iCalcreator 2.20//
CALSCALE:GREGORIAN
METHOD:PUBLISH
X-WR-CALNAME:Greater Glen Eden
X-WR-CALDESC:Greater Glen Eden Community Website
X-FROM-URL:http://greatergleneden.org.nz
X-WR-TIMEZONE:Pacific/Auckland
BEGIN:VTIMEZONE
TZID:Pacific/Auckland
X-LIC-LOCATION:Pacific/Auckland
BEGIN:STANDARD
DTSTART:20180401T030000
TZOFFSETFROM:+1300
TZOFFSETTO:+1200
TZNAME:NZST
END:STANDARD
BEGIN:DAYLIGHT
DTSTART:20170924T020000
TZOFFSETFROM:+1200
TZOFFSETTO:+1300
TZNAME:NZDT
END:DAYLIGHT
END:VTIMEZONE
BEGIN:VEVENT
UID:ai1ec-151@greatergleneden.org.nz
DTSTAMP:20180124T114100Z
CATEGORIES:
CONTACT:Kay Lindley\; kaylindley@xtra.co.nz\; http://www.greatergleneden.or
 g.nz
DESCRIPTION:
DTSTART;TZID=Pacific/Auckland:20151209T100000
DTEND;TZID=Pacific/Auckland:20151209T113000
GEO:-36.909331;+174.647645
LOCATION:Methodist Church @ 302 W Coast Rd\, Glen Eden\, Auckland 0602\, Ne
 w Zealand
SEQUENCE:0
SUMMARY:Greater Glen Eden Christmas Meeting
URL:http://greatergleneden.org.nz/event/greater-glen-eden-christmas-meeting
 /
END:VEVENT
END:VCALENDAR
