BEGIN:VCALENDAR
VERSION:2.0
PRODID:-//192.232.223.72//NONSGML kigkonsult.se iCalcreator 2.20//
CALSCALE:GREGORIAN
METHOD:PUBLISH
X-WR-CALNAME:Greater Glen Eden
X-WR-CALDESC:Greater Glen Eden Community Website
X-FROM-URL:http://greatergleneden.org.nz
X-WR-TIMEZONE:Pacific/Auckland
BEGIN:VTIMEZONE
TZID:Pacific/Auckland
X-LIC-LOCATION:Pacific/Auckland
BEGIN:STANDARD
DTSTART:20180401T030000
TZOFFSETFROM:+1300
TZOFFSETTO:+1200
TZNAME:NZST
END:STANDARD
BEGIN:DAYLIGHT
DTSTART:20170924T020000
TZOFFSETFROM:+1200
TZOFFSETTO:+1300
TZNAME:NZDT
END:DAYLIGHT
END:VTIMEZONE
BEGIN:VEVENT
UID:ai1ec-181@greatergleneden.org.nz
DTSTAMP:20180124T114036Z
CATEGORIES:
CONTACT:
DESCRIPTION:From 7 Dec – 17 Jan.  Glen Eden Library will be running the Auc
 kland Libraries Summer Reading Adventure Programme for Kids aged 5-13 year
 s
DTSTART;TZID=Pacific/Auckland:20151207T083600
DTEND;TZID=Pacific/Auckland:20160117T093600
LOCATION:Glen Eden Library
SEQUENCE:0
SUMMARY:Glen Eden Library Summer Reading Adventure Programme
URL:http://greatergleneden.org.nz/event/glen-eden-library-summer-reading-ad
 venture-programme/
X-ALT-DESC;FMTTYPE=text/html:<!DOCTYPE HTML PUBLIC '-//W3C//DTD HTML 3.2//E
 N'>\\n<HTML>\\n<HEAD>\\n<TITLE></TITLE>\\n</HEAD>\\n<BODY><p>From 7 Dec – 
 17 Jan.  Glen Eden Library will be running the Auckland Libraries Summer R
 eading Adventure Programme for Kids aged 5-13 years</p>\n</BODY></HTML>
END:VEVENT
END:VCALENDAR
