BEGIN:VCALENDAR
VERSION:2.0
PRODID:-//192.232.223.72//NONSGML kigkonsult.se iCalcreator 2.20//
CALSCALE:GREGORIAN
METHOD:PUBLISH
X-WR-CALNAME:Greater Glen Eden
X-WR-CALDESC:Greater Glen Eden Community Website
X-FROM-URL:http://greatergleneden.org.nz
X-WR-TIMEZONE:Pacific/Auckland
BEGIN:VTIMEZONE
TZID:Pacific/Auckland
X-LIC-LOCATION:Pacific/Auckland
BEGIN:STANDARD
DTSTART:20180401T030000
TZOFFSETFROM:+1300
TZOFFSETTO:+1200
TZNAME:NZST
END:STANDARD
BEGIN:DAYLIGHT
DTSTART:20170924T020000
TZOFFSETFROM:+1200
TZOFFSETTO:+1300
TZNAME:NZDT
END:DAYLIGHT
END:VTIMEZONE
BEGIN:VEVENT
UID:ai1ec-185@greatergleneden.org.nz
DTSTAMP:20180124T114220Z
CATEGORIES:
CONTACT:Leanne Appleby\; 818 2194 or 021 120 8849
DESCRIPTION:
DTSTART;TZID=Pacific/Auckland:20151218T160000
DTEND;TZID=Pacific/Auckland:20151218T180000
LOCATION:Waikumete Cemetary\, Glen Eden
RDATE;TZID=Pacific/Auckland:20151219T160000
SEQUENCE:0
SUMMARY:Waikumete Cemetary Walk
URL:http://greatergleneden.org.nz/event/waikumete-cemetary-walk/
X-COST:Donation
END:VEVENT
END:VCALENDAR
