BEGIN:VCALENDAR
VERSION:2.0
PRODID:-//192.232.223.72//NONSGML kigkonsult.se iCalcreator 2.20//
CALSCALE:GREGORIAN
METHOD:PUBLISH
X-WR-CALNAME:Greater Glen Eden
X-WR-CALDESC:Greater Glen Eden Community Website
X-FROM-URL:http://greatergleneden.org.nz
X-WR-TIMEZONE:Pacific/Auckland
BEGIN:VTIMEZONE
TZID:Pacific/Auckland
X-LIC-LOCATION:Pacific/Auckland
BEGIN:STANDARD
DTSTART:20180401T030000
TZOFFSETFROM:+1300
TZOFFSETTO:+1200
TZNAME:NZST
END:STANDARD
BEGIN:DAYLIGHT
DTSTART:20170924T020000
TZOFFSETFROM:+1200
TZOFFSETTO:+1300
TZNAME:NZDT
END:DAYLIGHT
END:VTIMEZONE
BEGIN:VEVENT
UID:ai1ec-186@greatergleneden.org.nz
DTSTAMP:20180124T114258Z
CATEGORIES:
CONTACT:Arataki Visitor Centre\; 09 817 0089\; Dennis.Badan@aucklandcouncil
 .govt.nz
DESCRIPTION:
DTSTART;TZID=Pacific/Auckland:20160104T193000
DTEND;TZID=Pacific/Auckland:20160104T220000
GEO:-41.019035;+174.139584
LOCATION:Cascade/Kauri carpark @ Titirangi\, New Zealand
RDATE;TZID=Pacific/Auckland:20160106T193000
RDATE;TZID=Pacific/Auckland:20160111T193000
RDATE;TZID=Pacific/Auckland:20160113T193000
RDATE;TZID=Pacific/Auckland:20160115T193000
RDATE;TZID=Pacific/Auckland:20160118T193000
RDATE;TZID=Pacific/Auckland:20160120T193000
RDATE;TZID=Pacific/Auckland:20160122T193000
RDATE;TZID=Pacific/Auckland:20160125T193000
RDATE;TZID=Pacific/Auckland:20160127T193000
SEQUENCE:0
SUMMARY:Summer Evening Walks 2016
URL:http://greatergleneden.org.nz/event/summer-evening-walks-2016/
X-COST:$10 Adults\, $5 Children\, $25 Family of 2 Adults\, 2 children
END:VEVENT
END:VCALENDAR
