BEGIN:VCALENDAR
VERSION:2.0
PRODID:-//192.232.223.72//NONSGML kigkonsult.se iCalcreator 2.20//
CALSCALE:GREGORIAN
METHOD:PUBLISH
X-WR-CALNAME:Greater Glen Eden
X-WR-CALDESC:Greater Glen Eden Community Website
X-FROM-URL:http://greatergleneden.org.nz
X-WR-TIMEZONE:Pacific/Auckland
BEGIN:VTIMEZONE
TZID:Pacific/Auckland
X-LIC-LOCATION:Pacific/Auckland
BEGIN:STANDARD
DTSTART:20180401T030000
TZOFFSETFROM:+1300
TZOFFSETTO:+1200
TZNAME:NZST
END:STANDARD
BEGIN:DAYLIGHT
DTSTART:20170924T020000
TZOFFSETFROM:+1200
TZOFFSETTO:+1300
TZNAME:NZDT
END:DAYLIGHT
END:VTIMEZONE
BEGIN:VEVENT
UID:ai1ec-194@greatergleneden.org.nz
DTSTAMP:20180124T115049Z
CATEGORIES:
CONTACT:Lee Hickey\; masseymeansbusiness@gmail.com
DESCRIPTION:
DTSTART;TZID=Pacific/Auckland:20160228T100000
DTEND;TZID=Pacific/Auckland:20160228T120000
GEO:-36.873929;+174.627724
LOCATION:WEST.  9 Henderson Valley Road @ Henderson\, Auckland\, New Zealan
 d
RDATE;TZID=Pacific/Auckland:20160307T100000
SEQUENCE:0
SUMMARY:FREE BUSINESS DEVELOPMENT WORKSHOPS
URL:http://greatergleneden.org.nz/event/free-business-development-workshops
 /
END:VEVENT
END:VCALENDAR
