BEGIN:VCALENDAR
VERSION:2.0
PRODID:-//192.232.223.72//NONSGML kigkonsult.se iCalcreator 2.20//
CALSCALE:GREGORIAN
METHOD:PUBLISH
X-WR-CALNAME:Greater Glen Eden
X-WR-CALDESC:Greater Glen Eden Community Website
X-FROM-URL:http://greatergleneden.org.nz
X-WR-TIMEZONE:Pacific/Auckland
BEGIN:VTIMEZONE
TZID:Pacific/Auckland
X-LIC-LOCATION:Pacific/Auckland
BEGIN:STANDARD
DTSTART:20180401T030000
TZOFFSETFROM:+1300
TZOFFSETTO:+1200
TZNAME:NZST
END:STANDARD
BEGIN:DAYLIGHT
DTSTART:20170924T020000
TZOFFSETFROM:+1200
TZOFFSETTO:+1300
TZNAME:NZDT
END:DAYLIGHT
END:VTIMEZONE
BEGIN:VEVENT
UID:ai1ec-195@greatergleneden.org.nz
DTSTAMP:20180124T114608Z
CATEGORIES:
CONTACT:Lifewise\; 818 6834
DESCRIPTION:
DTSTART;TZID=Pacific/Auckland:20160215T190000
DTEND;TZID=Pacific/Auckland:20160215T211500
GEO:-36.908712;+174.678145
LOCATION:Lifewise Family Services @ 3131 Great North Rd\, New Lynn\, Auckla
 nd 0600\, New Zealand
SEQUENCE:0
SUMMARY:Self Defence Classes
URL:http://greatergleneden.org.nz/event/early-years-toolbox-course/
END:VEVENT
END:VCALENDAR
