BEGIN:VCALENDAR
VERSION:2.0
PRODID:-//192.232.223.72//NONSGML kigkonsult.se iCalcreator 2.20//
CALSCALE:GREGORIAN
METHOD:PUBLISH
X-WR-CALNAME:Greater Glen Eden
X-WR-CALDESC:Greater Glen Eden Community Website
X-FROM-URL:http://greatergleneden.org.nz
X-WR-TIMEZONE:Pacific/Auckland
BEGIN:VTIMEZONE
TZID:Pacific/Auckland
X-LIC-LOCATION:Pacific/Auckland
BEGIN:STANDARD
DTSTART:20180401T030000
TZOFFSETFROM:+1300
TZOFFSETTO:+1200
TZNAME:NZST
END:STANDARD
BEGIN:DAYLIGHT
DTSTART:20170924T020000
TZOFFSETFROM:+1200
TZOFFSETTO:+1300
TZNAME:NZDT
END:DAYLIGHT
END:VTIMEZONE
BEGIN:VEVENT
UID:ai1ec-205@greatergleneden.org.nz
DTSTAMP:20180124T114803Z
CATEGORIES:
CONTACT:Janne Costello
DESCRIPTION:
DTSTART;TZID=Pacific/Auckland:20160218T153000
DTEND;TZID=Pacific/Auckland:20160218T170000
LOCATION:Glen Eden Library
RDATE;TZID=Pacific/Auckland:20160223T153000
RDATE;TZID=Pacific/Auckland:20160301T153000
RDATE;TZID=Pacific/Auckland:20160308T153000
RDATE;TZID=Pacific/Auckland:20160315T153000
RDATE;TZID=Pacific/Auckland:20160322T153000
RDATE;TZID=Pacific/Auckland:20160329T153000
RDATE;TZID=Pacific/Auckland:20160405T153000
RDATE;TZID=Pacific/Auckland:20160412T153000
SEQUENCE:0
SUMMARY:Chess
URL:http://greatergleneden.org.nz/event/chess/
X-COST-TYPE:free
END:VEVENT
END:VCALENDAR
