BEGIN:VCALENDAR
VERSION:2.0
PRODID:-//192.232.223.72//NONSGML kigkonsult.se iCalcreator 2.20//
CALSCALE:GREGORIAN
METHOD:PUBLISH
X-WR-CALNAME:Greater Glen Eden
X-WR-CALDESC:Greater Glen Eden Community Website
X-FROM-URL:http://greatergleneden.org.nz
X-WR-TIMEZONE:Pacific/Auckland
BEGIN:VTIMEZONE
TZID:Pacific/Auckland
X-LIC-LOCATION:Pacific/Auckland
BEGIN:STANDARD
DTSTART:20180401T030000
TZOFFSETFROM:+1300
TZOFFSETTO:+1200
TZNAME:NZST
END:STANDARD
BEGIN:DAYLIGHT
DTSTART:20170924T020000
TZOFFSETFROM:+1200
TZOFFSETTO:+1300
TZNAME:NZDT
END:DAYLIGHT
END:VTIMEZONE
BEGIN:VEVENT
UID:ai1ec-206@greatergleneden.org.nz
DTSTAMP:20180124T114711Z
CATEGORIES:
CONTACT:
DESCRIPTION:
DTSTART;TZID=Pacific/Auckland:20160217T153000
DTEND;TZID=Pacific/Auckland:20160217T163000
RDATE;TZID=Pacific/Auckland:20160217T153000
RDATE;TZID=Pacific/Auckland:20160224T153000
RDATE;TZID=Pacific/Auckland:20160302T153000
RDATE;TZID=Pacific/Auckland:20160309T153000
RDATE;TZID=Pacific/Auckland:20160316T153000
RDATE;TZID=Pacific/Auckland:20160323T153000
RDATE;TZID=Pacific/Auckland:20160330T153000
RDATE;TZID=Pacific/Auckland:20160406T153000
RDATE;TZID=Pacific/Auckland:20160413T153000
SEQUENCE:0
SUMMARY:Mad Hatters After School Book Club for Kids
URL:http://greatergleneden.org.nz/event/mad-hatters-after-school-book-club-
 for-kids/
X-COST-TYPE:free
END:VEVENT
END:VCALENDAR
