BEGIN:VCALENDAR
VERSION:2.0
PRODID:-//192.232.223.72//NONSGML kigkonsult.se iCalcreator 2.20//
CALSCALE:GREGORIAN
METHOD:PUBLISH
X-WR-CALNAME:Greater Glen Eden
X-WR-CALDESC:Greater Glen Eden Community Website
X-FROM-URL:http://greatergleneden.org.nz
X-WR-TIMEZONE:Pacific/Auckland
BEGIN:VTIMEZONE
TZID:Pacific/Auckland
X-LIC-LOCATION:Pacific/Auckland
BEGIN:STANDARD
DTSTART:20180401T030000
TZOFFSETFROM:+1300
TZOFFSETTO:+1200
TZNAME:NZST
END:STANDARD
BEGIN:DAYLIGHT
DTSTART:20170924T020000
TZOFFSETFROM:+1200
TZOFFSETTO:+1300
TZNAME:NZDT
END:DAYLIGHT
END:VTIMEZONE
BEGIN:VEVENT
UID:ai1ec-207@greatergleneden.org.nz
DTSTAMP:20180124T115101Z
CATEGORIES:
CONTACT:
DESCRIPTION:
DTSTART;TZID=Pacific/Auckland:20160302T103000
DTEND;TZID=Pacific/Auckland:20160302T114500
LOCATION:Auckland Library
RDATE;TZID=Pacific/Auckland:20160302T103000
RDATE;TZID=Pacific/Auckland:20160406T103000
SEQUENCE:0
SUMMARY:Adult Book Chat
URL:http://greatergleneden.org.nz/event/adult-book-chat/
X-COST-TYPE:free
END:VEVENT
END:VCALENDAR
