BEGIN:VCALENDAR
VERSION:2.0
PRODID:-//192.232.223.72//NONSGML kigkonsult.se iCalcreator 2.20//
CALSCALE:GREGORIAN
METHOD:PUBLISH
X-WR-CALNAME:Greater Glen Eden
X-WR-CALDESC:Greater Glen Eden Community Website
X-FROM-URL:http://greatergleneden.org.nz
X-WR-TIMEZONE:Pacific/Auckland
BEGIN:VTIMEZONE
TZID:Pacific/Auckland
X-LIC-LOCATION:Pacific/Auckland
BEGIN:STANDARD
DTSTART:20180401T030000
TZOFFSETFROM:+1300
TZOFFSETTO:+1200
TZNAME:NZST
END:STANDARD
BEGIN:DAYLIGHT
DTSTART:20170924T020000
TZOFFSETFROM:+1200
TZOFFSETTO:+1300
TZNAME:NZDT
END:DAYLIGHT
END:VTIMEZONE
BEGIN:VEVENT
UID:ai1ec-209@greatergleneden.org.nz
DTSTAMP:20180124T115034Z
CATEGORIES:
CONTACT:
DESCRIPTION:
DTSTART;TZID=Pacific/Auckland:20160227T130000
DTEND;TZID=Pacific/Auckland:20160227T153000
LOCATION:Glen Eden Library
RDATE;TZID=Pacific/Auckland:20160326T130000
RDATE;TZID=Pacific/Auckland:20160430T130000
SEQUENCE:0
SUMMARY:Glen Eden Writers
URL:http://greatergleneden.org.nz/event/glen-eden-writers/
X-COST-TYPE:free
END:VEVENT
END:VCALENDAR
