BEGIN:VCALENDAR
VERSION:2.0
PRODID:-//192.232.223.72//NONSGML kigkonsult.se iCalcreator 2.20//
CALSCALE:GREGORIAN
METHOD:PUBLISH
X-WR-CALNAME:Greater Glen Eden
X-WR-CALDESC:Greater Glen Eden Community Website
X-FROM-URL:http://greatergleneden.org.nz
X-WR-TIMEZONE:Pacific/Auckland
BEGIN:VTIMEZONE
TZID:Pacific/Auckland
X-LIC-LOCATION:Pacific/Auckland
BEGIN:STANDARD
DTSTART:20180401T030000
TZOFFSETFROM:+1300
TZOFFSETTO:+1200
TZNAME:NZST
END:STANDARD
BEGIN:DAYLIGHT
DTSTART:20170924T020000
TZOFFSETFROM:+1200
TZOFFSETTO:+1300
TZNAME:NZDT
END:DAYLIGHT
END:VTIMEZONE
BEGIN:VEVENT
UID:ai1ec-211@greatergleneden.org.nz
DTSTAMP:20180124T113556Z
CATEGORIES:
CONTACT:Joanne Thornber\; 0211112004
DESCRIPTION:
DTSTART;VALUE=DATE:20160228
DTEND;VALUE=DATE:20160229
GEO:-36.915372;+174.690847
LOCATION:New Lynn/Suburbs District Touch Module Club @ Portage Rd\, New Lyn
 n\, New Zealand
SEQUENCE:0
SUMMARY:Junior 1-day Touch Tournament
URL:http://greatergleneden.org.nz/event/junior-1-day-touch-tournament/
X-COST-TYPE:free
END:VEVENT
END:VCALENDAR
