BEGIN:VCALENDAR
VERSION:2.0
PRODID:-//192.232.223.72//NONSGML kigkonsult.se iCalcreator 2.20//
CALSCALE:GREGORIAN
METHOD:PUBLISH
X-WR-CALNAME:Greater Glen Eden
X-WR-CALDESC:Greater Glen Eden Community Website
X-FROM-URL:http://greatergleneden.org.nz
X-WR-TIMEZONE:Pacific/Auckland
BEGIN:VTIMEZONE
TZID:Pacific/Auckland
X-LIC-LOCATION:Pacific/Auckland
BEGIN:STANDARD
DTSTART:20180401T030000
TZOFFSETFROM:+1300
TZOFFSETTO:+1200
TZNAME:NZST
END:STANDARD
BEGIN:DAYLIGHT
DTSTART:20170924T020000
TZOFFSETFROM:+1200
TZOFFSETTO:+1300
TZNAME:NZDT
END:DAYLIGHT
END:VTIMEZONE
BEGIN:VEVENT
UID:ai1ec-212@greatergleneden.org.nz
DTSTAMP:20180124T114646Z
CATEGORIES:
CONTACT:Glen Eden Community House\; piscesplaygroup@glenedencommunityhouse.
 co.nz
DESCRIPTION:
DTSTART;TZID=Pacific/Auckland:20160217T091500
DTEND;TZID=Pacific/Auckland:20160217T114500
GEO:-36.91563;+174.637159
LOCATION:Glen Eden Community House @ 13 Pisces Rd\, Glen Eden\, Auckland 06
 02\, New Zealand
RDATE;TZID=Pacific/Auckland:20160219T091500
RDATE;TZID=Pacific/Auckland:20160222T091500
RDATE;TZID=Pacific/Auckland:20160224T091500
RDATE;TZID=Pacific/Auckland:20160226T091500
RDATE;TZID=Pacific/Auckland:20160302T091500
RDATE;TZID=Pacific/Auckland:20160304T091500
RDATE;TZID=Pacific/Auckland:20160307T091500
RDATE;TZID=Pacific/Auckland:20160309T091500
RDATE;TZID=Pacific/Auckland:20160311T091500
RDATE;TZID=Pacific/Auckland:20160314T091500
RDATE;TZID=Pacific/Auckland:20160316T091500
RDATE;TZID=Pacific/Auckland:20160318T091500
RDATE;TZID=Pacific/Auckland:20160321T091500
RDATE;TZID=Pacific/Auckland:20160323T091500
RDATE;TZID=Pacific/Auckland:20160325T091500
RDATE;TZID=Pacific/Auckland:20160328T091500
RDATE;TZID=Pacific/Auckland:20160330T091500
RDATE;TZID=Pacific/Auckland:20160401T091500
RDATE;TZID=Pacific/Auckland:20160404T091500
RDATE;TZID=Pacific/Auckland:20160406T091500
RDATE;TZID=Pacific/Auckland:20160408T091500
RDATE;TZID=Pacific/Auckland:20160411T091500
RDATE;TZID=Pacific/Auckland:20160413T091500
RDATE;TZID=Pacific/Auckland:20160415T091500
SEQUENCE:0
SUMMARY:Pisces Road Playgroup
URL:http://greatergleneden.org.nz/event/pisces-road-playgroup/
X-COST-TYPE:free
END:VEVENT
END:VCALENDAR
