BEGIN:VCALENDAR
VERSION:2.0
PRODID:-//192.232.223.72//NONSGML kigkonsult.se iCalcreator 2.20//
CALSCALE:GREGORIAN
METHOD:PUBLISH
X-WR-CALNAME:Greater Glen Eden
X-WR-CALDESC:Greater Glen Eden Community Website
X-FROM-URL:http://greatergleneden.org.nz
X-WR-TIMEZONE:Pacific/Auckland
BEGIN:VTIMEZONE
TZID:Pacific/Auckland
X-LIC-LOCATION:Pacific/Auckland
BEGIN:STANDARD
DTSTART:20180401T030000
TZOFFSETFROM:+1300
TZOFFSETTO:+1200
TZNAME:NZST
END:STANDARD
BEGIN:DAYLIGHT
DTSTART:20170924T020000
TZOFFSETFROM:+1200
TZOFFSETTO:+1300
TZNAME:NZDT
END:DAYLIGHT
END:VTIMEZONE
BEGIN:VEVENT
UID:ai1ec-213@greatergleneden.org.nz
DTSTAMP:20180124T114700Z
CATEGORIES:
CONTACT:Family Action\; 836 1987\; office@familyaction.org.nz\; http://www.
 familyaction.org.nz
DESCRIPTION:
DTSTART;TZID=Pacific/Auckland:20160217T093000
DTEND;TZID=Pacific/Auckland:20160217T113000
GEO:-36.882216;+174.633538
LOCATION:Family Action @ 13 Edsel St\, Henderson\, Auckland 0612\, New Zeal
 and
RDATE;TZID=Pacific/Auckland:20160217T093000
RDATE;TZID=Pacific/Auckland:20160224T093000
RDATE;TZID=Pacific/Auckland:20160302T093000
RDATE;TZID=Pacific/Auckland:20160309T093000
RDATE;TZID=Pacific/Auckland:20160316T093000
RDATE;TZID=Pacific/Auckland:20160323T093000
RDATE;TZID=Pacific/Auckland:20160330T093000
RDATE;TZID=Pacific/Auckland:20160504T093000
RDATE;TZID=Pacific/Auckland:20160511T093000
SEQUENCE:0
SUMMARY:Women in Action
URL:http://greatergleneden.org.nz/event/women-in-action/
X-COST-TYPE:free
END:VEVENT
END:VCALENDAR
