BEGIN:VCALENDAR
VERSION:2.0
PRODID:-//192.232.223.72//NONSGML kigkonsult.se iCalcreator 2.20//
CALSCALE:GREGORIAN
METHOD:PUBLISH
X-WR-CALNAME:Greater Glen Eden
X-WR-CALDESC:Greater Glen Eden Community Website
X-FROM-URL:http://greatergleneden.org.nz
X-WR-TIMEZONE:Pacific/Auckland
BEGIN:VTIMEZONE
TZID:Pacific/Auckland
X-LIC-LOCATION:Pacific/Auckland
BEGIN:STANDARD
DTSTART:20180401T030000
TZOFFSETFROM:+1300
TZOFFSETTO:+1200
TZNAME:NZST
END:STANDARD
BEGIN:DAYLIGHT
DTSTART:20170924T020000
TZOFFSETFROM:+1200
TZOFFSETTO:+1300
TZNAME:NZDT
END:DAYLIGHT
END:VTIMEZONE
BEGIN:VEVENT
UID:ai1ec-214@greatergleneden.org.nz
DTSTAMP:20180124T115012Z
CATEGORIES:
CONTACT:Waitakere Health Link\; 839 0512\; office@waitakerehealthlink.org.n
 z
DESCRIPTION:
DTSTART;TZID=Pacific/Auckland:20160224T100000
DTEND;TZID=Pacific/Auckland:20160224T120000
GEO:-36.864063;+174.60406
LOCATION:Ranui Baptist Church @ 460-464 Swanson Rd\, Ranui\, Auckland 0612\
 , New Zealand
SEQUENCE:0
SUMMARY:Primary Birthing Units Public Consultation Meeting
URL:http://greatergleneden.org.nz/event/primary-birthing-units-public-consu
 ltation-meeting/
X-COST-TYPE:free
END:VEVENT
END:VCALENDAR
