BEGIN:VCALENDAR
VERSION:2.0
PRODID:-//192.232.223.72//NONSGML kigkonsult.se iCalcreator 2.20//
CALSCALE:GREGORIAN
METHOD:PUBLISH
X-WR-CALNAME:Greater Glen Eden
X-WR-CALDESC:Greater Glen Eden Community Website
X-FROM-URL:http://greatergleneden.org.nz
X-WR-TIMEZONE:Pacific/Auckland
BEGIN:VTIMEZONE
TZID:Pacific/Auckland
X-LIC-LOCATION:Pacific/Auckland
BEGIN:STANDARD
DTSTART:20180401T030000
TZOFFSETFROM:+1300
TZOFFSETTO:+1200
TZNAME:NZST
END:STANDARD
BEGIN:DAYLIGHT
DTSTART:20170924T020000
TZOFFSETFROM:+1200
TZOFFSETTO:+1300
TZNAME:NZDT
END:DAYLIGHT
END:VTIMEZONE
BEGIN:VEVENT
UID:ai1ec-216@greatergleneden.org.nz
DTSTAMP:20180124T114945Z
CATEGORIES:
CONTACT:Togia Lanefale\; 835 0509 x 809\; togia@manalive.org.nz
DESCRIPTION:
DTSTART;TZID=Pacific/Auckland:20160223T100000
DTEND;TZID=Pacific/Auckland:20160223T110000
GEO:-36.878467;+174.635525
LOCATION:Man Alive @ 11 Edmonton Rd\, Henderson\, Auckland 0612\, New Zeala
 nd
SEQUENCE:0
SUMMARY:Promoting Great Parenting Network Meeting
URL:http://greatergleneden.org.nz/event/promoting-great-parenting-network-m
 eeting/
X-COST-TYPE:free
END:VEVENT
END:VCALENDAR
