BEGIN:VCALENDAR
VERSION:2.0
PRODID:-//192.232.223.72//NONSGML kigkonsult.se iCalcreator 2.20//
CALSCALE:GREGORIAN
METHOD:PUBLISH
X-WR-CALNAME:Greater Glen Eden
X-WR-CALDESC:Greater Glen Eden Community Website
X-FROM-URL:http://greatergleneden.org.nz
X-WR-TIMEZONE:Pacific/Auckland
BEGIN:VTIMEZONE
TZID:Pacific/Auckland
X-LIC-LOCATION:Pacific/Auckland
BEGIN:STANDARD
DTSTART:20180401T030000
TZOFFSETFROM:+1300
TZOFFSETTO:+1200
TZNAME:NZST
END:STANDARD
BEGIN:DAYLIGHT
DTSTART:20170924T020000
TZOFFSETFROM:+1200
TZOFFSETTO:+1300
TZNAME:NZDT
END:DAYLIGHT
END:VTIMEZONE
BEGIN:VEVENT
UID:ai1ec-222@greatergleneden.org.nz
DTSTAMP:20180124T115236Z
CATEGORIES:
CONTACT:Glen Eden Community House\; 8182194
DESCRIPTION:Green Prescription (GRx) Info Session          FREE   \nThursda
 y 17th March 12.30 pm to 2.30 pm\nGlen Eden Community House 13 Pisces Road
  Glen Eden\nDo you want to find out more about how the Green Prescription 
 works?\nThe Green Prescription team will support you to have a healthy lif
 estyle through advice on physical activity and nutrition\, mentoring and s
 upport to help you stay on track. To register for the info session phone 8
 182194
DTSTART;TZID=Pacific/Auckland:20160317T123000
DTEND;TZID=Pacific/Auckland:20160317T143000
GEO:-36.91563;+174.637159
LOCATION:Glen Eden Community House @ 13 Pisces Rd\, Glen Eden\, Auckland 06
 02\, New Zealand
SEQUENCE:0
SUMMARY:Green Prescription Info Session
URL:http://greatergleneden.org.nz/event/green-prescription-info-session/
X-COST-TYPE:free
X-ALT-DESC;FMTTYPE=text/html:<!DOCTYPE HTML PUBLIC '-//W3C//DTD HTML 3.2//E
 N'>\\n<HTML>\\n<HEAD>\\n<TITLE></TITLE>\\n</HEAD>\\n<BODY><p><strong>Green
  Prescription (GRx) Info Session          FREE   </strong></p>\n<p>Thursda
 y 17<sup>th</sup> March 12.30 pm to 2.30 pm</p>\n<p>Glen Eden Community Ho
 use 13 Pisces Road Glen Eden</p>\n<p>Do you want to find out more about ho
 w the Green Prescription works?</p>\n<p>The Green Prescription team will s
 upport you to have a healthy lifestyle through advice on physical activity
  and nutrition\, mentoring and support to help you stay on track. <em>To r
 egister for the info session phone 8182194</em></p>\n</BODY></HTML>
END:VEVENT
END:VCALENDAR
