BEGIN:VCALENDAR
VERSION:2.0
PRODID:-//192.232.223.72//NONSGML kigkonsult.se iCalcreator 2.20//
CALSCALE:GREGORIAN
METHOD:PUBLISH
X-WR-CALNAME:Greater Glen Eden
X-WR-CALDESC:Greater Glen Eden Community Website
X-FROM-URL:http://greatergleneden.org.nz
X-WR-TIMEZONE:Pacific/Auckland
BEGIN:VTIMEZONE
TZID:Pacific/Auckland
X-LIC-LOCATION:Pacific/Auckland
BEGIN:STANDARD
DTSTART:20180401T030000
TZOFFSETFROM:+1300
TZOFFSETTO:+1200
TZNAME:NZST
END:STANDARD
BEGIN:DAYLIGHT
DTSTART:20170924T020000
TZOFFSETFROM:+1200
TZOFFSETTO:+1300
TZNAME:NZDT
END:DAYLIGHT
END:VTIMEZONE
BEGIN:VEVENT
UID:ai1ec-223@greatergleneden.org.nz
DTSTAMP:20180124T115127Z
CATEGORIES:
CONTACT:Glen Eden Community House\; 8182194
DESCRIPTION:Workplace Comprehensive First Aid     \nSaturday 12th March – 8
 .30am to 5.30pm\nGlen Eden Community House 13 Pisces Road Glen Eden\n$110.
 00  \n*Enrolment is essential Phone 818 2194\nA certificated course. Subje
 cts included are Steps of First Aid\, CPR\, Heart Problems\, Shock\, Wound
 s & Bleeding\, Diabetes\, Seizures\, Stroke\, Breathing Problems\, Soft Ti
 ssue\,Fractures & Burns.\nNZQA units: 26551 & 26552
DTSTART;TZID=Pacific/Auckland:20160312T063000
DTEND;TZID=Pacific/Auckland:20160312T170000
GEO:-36.91563;+174.637159
LOCATION:Glen Eden Community House @ 13 Pisces Rd\, Glen Eden\, Auckland 06
 02\, New Zealand
SEQUENCE:0
SUMMARY:Workplace Comprehensive First Aid
URL:http://greatergleneden.org.nz/event/workplace-comprehensive-first-aid/
X-COST-TYPE:external
X-ALT-DESC;FMTTYPE=text/html:<!DOCTYPE HTML PUBLIC '-//W3C//DTD HTML 3.2//E
 N'>\\n<HTML>\\n<HEAD>\\n<TITLE></TITLE>\\n</HEAD>\\n<BODY><p><strong>Workp
 lace Comprehensive First Aid     </strong></p>\n<p>Saturday 12<sup>th</sup
 > March<em> – 8.30am to 5.30pm</em></p>\n<p><em>Glen Eden Community House 
 13 Pisces Road Glen Eden</em></p>\n<p><strong>$110.00  </strong></p>\n<p><
 em>*Enrolment is essential Phone 818 2194</em></p>\n<p>A certificated cour
 se. Subjects included are Steps of First Aid\, CPR\, Heart Problems\, Shoc
 k\, Wounds & Bleeding\, Diabetes\, Seizures\, Stroke\, Breathing Problems\
 , Soft Tissue\,Fractures & Burns.</p>\n<p>NZQA units: 26551 & 26552</p>\n<
 /BODY></HTML>
X-COST:$110
END:VEVENT
END:VCALENDAR
