BEGIN:VCALENDAR
VERSION:2.0
PRODID:-//192.232.223.72//NONSGML kigkonsult.se iCalcreator 2.20//
CALSCALE:GREGORIAN
METHOD:PUBLISH
X-WR-CALNAME:Greater Glen Eden
X-WR-CALDESC:Greater Glen Eden Community Website
X-FROM-URL:http://greatergleneden.org.nz
X-WR-TIMEZONE:Pacific/Auckland
BEGIN:VTIMEZONE
TZID:Pacific/Auckland
X-LIC-LOCATION:Pacific/Auckland
BEGIN:STANDARD
DTSTART:20180401T030000
TZOFFSETFROM:+1300
TZOFFSETTO:+1200
TZNAME:NZST
END:STANDARD
BEGIN:DAYLIGHT
DTSTART:20170924T020000
TZOFFSETFROM:+1200
TZOFFSETTO:+1300
TZNAME:NZDT
END:DAYLIGHT
END:VTIMEZONE
BEGIN:VEVENT
UID:ai1ec-226@greatergleneden.org.nz
DTSTAMP:20180124T113625Z
CATEGORIES:
CONTACT:Glen Eden Community House\; osc@glenedencommunityhouse.co.nz
DESCRIPTION:School Holiday Programme \n Monday 18th April to Friday 29th Ap
 ril \n \nBookings are essential for all programmes.\nWe pick up from Local
  schools\nMSD approved – WINZ subsidies available          \nPhone: (09) 8
 18 2198 \nemail: osc@glenedencommunityhouse.co.nz
DTSTART;VALUE=DATE:20160418
DTEND;VALUE=DATE:20160430
GEO:-36.91563;+174.637159
LOCATION:Glen Eden Community House @ 13 Pisces Rd\, Glen Eden\, Auckland 06
 02\, New Zealand
SEQUENCE:0
SUMMARY:School Holiday Programme
URL:http://greatergleneden.org.nz/event/school-holiday-programme/
X-COST-TYPE:free
X-ALT-DESC;FMTTYPE=text/html:<!DOCTYPE HTML PUBLIC '-//W3C//DTD HTML 3.2//E
 N'>\\n<HTML>\\n<HEAD>\\n<TITLE></TITLE>\\n</HEAD>\\n<BODY><p><strong><em>S
 chool Holiday Programme </em></strong></p>\n<p><strong><em> Monday 18<sup>
 th</sup> April to Friday 29<sup>th</sup> April </em></strong></p>\n<p><str
 ong><em> </em></strong></p>\n<p>Bookings are essential for all programmes.
 </p>\n<p>We pick up from Local schools</p>\n<p>MSD approved – <em>WINZ sub
 sidies available          </em></p>\n<p><em>Phone: (09) 818 2198 </em></p>
 \n<p><em>email: </em><a href='mailto:osc@glenedencommunityhouse.co.nz'><em
 >osc@glenedencommunityhouse.co.nz</em></a></p>\n</BODY></HTML>
END:VEVENT
END:VCALENDAR
