BEGIN:VCALENDAR
VERSION:2.0
PRODID:-//192.232.223.72//NONSGML kigkonsult.se iCalcreator 2.20//
CALSCALE:GREGORIAN
METHOD:PUBLISH
X-WR-CALNAME:Greater Glen Eden
X-WR-CALDESC:Greater Glen Eden Community Website
X-FROM-URL:http://greatergleneden.org.nz
X-WR-TIMEZONE:Pacific/Auckland
BEGIN:VTIMEZONE
TZID:Pacific/Auckland
X-LIC-LOCATION:Pacific/Auckland
BEGIN:STANDARD
DTSTART:20180401T030000
TZOFFSETFROM:+1300
TZOFFSETTO:+1200
TZNAME:NZST
END:STANDARD
BEGIN:DAYLIGHT
DTSTART:20170924T020000
TZOFFSETFROM:+1200
TZOFFSETTO:+1300
TZNAME:NZDT
END:DAYLIGHT
END:VTIMEZONE
BEGIN:VEVENT
UID:ai1ec-227@greatergleneden.org.nz
DTSTAMP:20180124T115205Z
CATEGORIES:
CONTACT:Glen Eden Community House\; 818 2194
DESCRIPTION: \nBusy Fingers – Intro to Traditional Crafts – Knitting \nMond
 ay 14th March – 4 weeks – 9.30am to 11.30am\nGlen Eden Community House 13 
 Pisces Road Glen Eden Phone 818 2194\nLearn basic knitting for beginners. 
 Starter kits will be available to purchase if you don’t have material\nFor
  further info please phone 818 2194    $5 per session
DTSTART;TZID=Pacific/Auckland:20160314T093000
DTEND;TZID=Pacific/Auckland:20160314T113000
GEO:-36.91563;+174.637159
LOCATION:Glen Eden Community House @ 13 Pisces Rd\, Glen Eden\, Auckland 06
 02\, New Zealand
RDATE;TZID=Pacific/Auckland:20160321T093000
RDATE;TZID=Pacific/Auckland:20160328T093000
RDATE;TZID=Pacific/Auckland:20160404T093000
SEQUENCE:0
SUMMARY:Busy Fingers – Intro to Traditional Crafts – Knitting
URL:http://greatergleneden.org.nz/event/busy-fingers-intro-to-traditional-c
 rafts-knitting/
X-COST-TYPE:external
X-ALT-DESC;FMTTYPE=text/html:<!DOCTYPE HTML PUBLIC '-//W3C//DTD HTML 3.2//E
 N'>\\n<HTML>\\n<HEAD>\\n<TITLE></TITLE>\\n</HEAD>\\n<BODY><p> </p>\n<p><st
 rong>Busy Fingers – Intro to Traditional Crafts – Knitting </strong></p>\n
 <p><em>Monday 14<sup>th</sup> March – 4 weeks – 9.30am to 11.30am</em></p>
 \n<p><em>Glen Eden Community House 13 Pisces Road Glen Eden Phone 818 2194
 </em></p>\n<p>Learn basic knitting for beginners. Starter kits will be ava
 ilable to purchase if you don’t have material</p>\n<p>For further info ple
 ase phone 818 2194    <strong>$5 per session</strong></p>\n</BODY></HTML>
X-COST:$5 per session
END:VEVENT
END:VCALENDAR
