BEGIN:VCALENDAR
VERSION:2.0
PRODID:-//192.232.223.72//NONSGML kigkonsult.se iCalcreator 2.20//
CALSCALE:GREGORIAN
METHOD:PUBLISH
X-WR-CALNAME:Greater Glen Eden
X-WR-CALDESC:Greater Glen Eden Community Website
X-FROM-URL:http://greatergleneden.org.nz
X-WR-TIMEZONE:Pacific/Auckland
BEGIN:VTIMEZONE
TZID:Pacific/Auckland
X-LIC-LOCATION:Pacific/Auckland
BEGIN:STANDARD
DTSTART:20180401T030000
TZOFFSETFROM:+1300
TZOFFSETTO:+1200
TZNAME:NZST
END:STANDARD
BEGIN:DAYLIGHT
DTSTART:20170924T020000
TZOFFSETFROM:+1200
TZOFFSETTO:+1300
TZNAME:NZDT
END:DAYLIGHT
END:VTIMEZONE
BEGIN:VEVENT
UID:ai1ec-228@greatergleneden.org.nz
DTSTAMP:20180124T114930Z
CATEGORIES:
CONTACT:Michelle \; 021 336 106
DESCRIPTION:<p><strong>Body Rhythm Yoga                                    
 $100.00                        </strong></p>\n<p><em>Tuesday 9<sup>th</sup
 > February  –10 weeks – 10.00 am to 11.30am</em></p>\n<p><em>Glen Eden Com
 munity House 13 Pisces Road Glen Eden</em></p>\n<p><em>Ph: Michelle 021 33
 6 106</em></p>
DTSTART;TZID=Pacific/Auckland:20160223T100000
DTEND;TZID=Pacific/Auckland:20160223T113000
GEO:-36.91563;+174.637159
LOCATION:Glen Eden Community House @ 13 Pisces Rd\, Glen Eden\, Auckland 06
 02\, New Zealand
RDATE;TZID=Pacific/Auckland:20160301T100000
RDATE;TZID=Pacific/Auckland:20160308T100000
RDATE;TZID=Pacific/Auckland:20160315T100000
RDATE;TZID=Pacific/Auckland:20160322T100000
RDATE;TZID=Pacific/Auckland:20160329T100000
RDATE;TZID=Pacific/Auckland:20160405T100000
RDATE;TZID=Pacific/Auckland:20160412T100000
SEQUENCE:0
SUMMARY:Body Rhythm Yoga
URL:http://greatergleneden.org.nz/event/body-rhythm-yoga/
X-COST-TYPE:external
X-COST:$100
END:VEVENT
END:VCALENDAR
