BEGIN:VCALENDAR
VERSION:2.0
PRODID:-//192.232.223.72//NONSGML kigkonsult.se iCalcreator 2.20//
CALSCALE:GREGORIAN
METHOD:PUBLISH
X-WR-CALNAME:Greater Glen Eden
X-WR-CALDESC:Greater Glen Eden Community Website
X-FROM-URL:http://greatergleneden.org.nz
X-WR-TIMEZONE:Pacific/Auckland
BEGIN:VTIMEZONE
TZID:Pacific/Auckland
X-LIC-LOCATION:Pacific/Auckland
BEGIN:STANDARD
DTSTART:20180401T030000
TZOFFSETFROM:+1300
TZOFFSETTO:+1200
TZNAME:NZST
END:STANDARD
BEGIN:DAYLIGHT
DTSTART:20170924T020000
TZOFFSETFROM:+1200
TZOFFSETTO:+1300
TZNAME:NZDT
END:DAYLIGHT
END:VTIMEZONE
BEGIN:VEVENT
UID:ai1ec-233@greatergleneden.org.nz
DTSTAMP:20180124T114842Z
CATEGORIES:
CONTACT:Pete Styles\; 02102320924\; bodydesignbyptpete@gmail.com
DESCRIPTION:There’s a NEW 6 week block STARTING MONDAY morning\, in the new
 ly renovated studio @ Waitakere City School of Dance!\n$108. gets you 18 s
 essions.\nSpit payment plan for those who need to.\nEmail bodydesignbyptpe
 te@gmail.com.\nMob 02102320924
DTSTART;TZID=Pacific/Auckland:20160222T060000
DTEND;TZID=Pacific/Auckland:20160222T070000
GEO:-36.914203;+174.650198
LOCATION:Waitakere City School of Dance @ 50A Glendale Rd\, Glen Eden\, Auc
 kland 0602\, New Zealand
RDATE;TZID=Pacific/Auckland:20160226T060000
RDATE;TZID=Pacific/Auckland:20160229T060000
RDATE;TZID=Pacific/Auckland:20160304T060000
RDATE;TZID=Pacific/Auckland:20160307T060000
RDATE;TZID=Pacific/Auckland:20160311T060000
RDATE;TZID=Pacific/Auckland:20160314T060000
RDATE;TZID=Pacific/Auckland:20160318T060000
RDATE;TZID=Pacific/Auckland:20160321T060000
RDATE;TZID=Pacific/Auckland:20160325T060000
RDATE;TZID=Pacific/Auckland:20160328T060000
RDATE;TZID=Pacific/Auckland:20160401T060000
RDATE;TZID=Pacific/Auckland:20160404T060000
RDATE;TZID=Pacific/Auckland:20160408T060000
RDATE;TZID=Pacific/Auckland:20160411T060000
RDATE;TZID=Pacific/Auckland:20160415T060000
SEQUENCE:0
SUMMARY:Boot Camp with Pete Styles
URL:http://greatergleneden.org.nz/event/boot-camp-with-pete-styles-2/
X-COST-TYPE:external
X-ALT-DESC;FMTTYPE=text/html:<!DOCTYPE HTML PUBLIC '-//W3C//DTD HTML 3.2//E
 N'>\\n<HTML>\\n<HEAD>\\n<TITLE></TITLE>\\n</HEAD>\\n<BODY><table>\n<tbody>
 \n<tr>\n<td>\n<table>\n<tbody>\n<tr>\n<td>There’s a NEW 6 week block START
 ING MONDAY morning\, in the newly renovated studio @ Waitakere City School
  of Dance!<br />\n$108. gets you 18 sessions.<br />\nSpit payment plan for
  those who need to.<br />\nEmail <a href='mailto:bodydesignbyptpete@gmail.
 com'>bodydesignbyptpete@gmail.com</a>.<br />\nMob 02102320924</td>\n</tr>
 \n<tr>\n<td>\n<table>\n<tbody>\n<tr>\n<td></td>\n<td></td>\n</tr>\n</tbody
 >\n</table>\n</td>\n</tr>\n</tbody>\n</table>\n</td>\n</tr>\n</tbody>\n</t
 able>\n</BODY></HTML>
X-COST:$108 for 18 sessions
END:VEVENT
END:VCALENDAR
