BEGIN:VCALENDAR
VERSION:2.0
PRODID:-//192.232.223.72//NONSGML kigkonsult.se iCalcreator 2.20//
CALSCALE:GREGORIAN
METHOD:PUBLISH
X-WR-CALNAME:Greater Glen Eden
X-WR-CALDESC:Greater Glen Eden Community Website
X-FROM-URL:http://greatergleneden.org.nz
X-WR-TIMEZONE:Pacific/Auckland
BEGIN:VTIMEZONE
TZID:Pacific/Auckland
X-LIC-LOCATION:Pacific/Auckland
BEGIN:STANDARD
DTSTART:20180401T030000
TZOFFSETFROM:+1300
TZOFFSETTO:+1200
TZNAME:NZST
END:STANDARD
BEGIN:DAYLIGHT
DTSTART:20170924T020000
TZOFFSETFROM:+1200
TZOFFSETTO:+1300
TZNAME:NZDT
END:DAYLIGHT
END:VTIMEZONE
BEGIN:VEVENT
UID:ai1ec-237@greatergleneden.org.nz
DTSTAMP:20180124T115153Z
CATEGORIES:
CONTACT:
DESCRIPTION:
DTSTART;TZID=Pacific/Auckland:20160314T060000
DTEND;TZID=Pacific/Auckland:20160314T070000
LOCATION:Waitakere City School of Dance @ Behind Glenora Rugby Leatue Club\
 , 50A Glendale Rd\, Glen Eden
RDATE;TZID=Pacific/Auckland:20160321T060000
RDATE;TZID=Pacific/Auckland:20160328T060000
RDATE;TZID=Pacific/Auckland:20160404T060000
RDATE;TZID=Pacific/Auckland:20160411T060000
SEQUENCE:0
SUMMARY:Boot Camp with Peter Styles
URL:http://greatergleneden.org.nz/event/boot-camp-with-peter-styles/
X-COST-TYPE:external
X-COST:10
END:VEVENT
END:VCALENDAR
