BEGIN:VCALENDAR
VERSION:2.0
PRODID:-//192.232.223.72//NONSGML kigkonsult.se iCalcreator 2.20//
CALSCALE:GREGORIAN
METHOD:PUBLISH
X-WR-CALNAME:Greater Glen Eden
X-WR-CALDESC:Greater Glen Eden Community Website
X-FROM-URL:http://greatergleneden.org.nz
X-WR-TIMEZONE:Pacific/Auckland
BEGIN:VTIMEZONE
TZID:Pacific/Auckland
X-LIC-LOCATION:Pacific/Auckland
BEGIN:STANDARD
DTSTART:20180401T030000
TZOFFSETFROM:+1300
TZOFFSETTO:+1200
TZNAME:NZST
END:STANDARD
BEGIN:DAYLIGHT
DTSTART:20170924T020000
TZOFFSETFROM:+1200
TZOFFSETTO:+1300
TZNAME:NZDT
END:DAYLIGHT
END:VTIMEZONE
BEGIN:VEVENT
UID:ai1ec-241@greatergleneden.org.nz
DTSTAMP:20180124T113610Z
CATEGORIES:
CONTACT:
DESCRIPTION:Choose which path your story will take.  This is a drop in anyt
 ime activity available to all ages.
DTSTART;VALUE=DATE:20160418
DTEND;VALUE=DATE:20160419
LOCATION:Glen Eden Library
RDATE;TZID=Pacific/Auckland:20160419T000000
RDATE;TZID=Pacific/Auckland:20160420T000000
RDATE;TZID=Pacific/Auckland:20160421T000000
RDATE;TZID=Pacific/Auckland:20160422T000000
RDATE;TZID=Pacific/Auckland:20160425T000000
RDATE;TZID=Pacific/Auckland:20160426T000000
RDATE;TZID=Pacific/Auckland:20160427T000000
RDATE;TZID=Pacific/Auckland:20160428T000000
RDATE;TZID=Pacific/Auckland:20160429T000000
SEQUENCE:0
SUMMARY:Create-a-story Treasure Hunt
URL:http://greatergleneden.org.nz/event/create-a-story-treasure-hunt/
X-COST-TYPE:free
X-ALT-DESC;FMTTYPE=text/html:<!DOCTYPE HTML PUBLIC '-//W3C//DTD HTML 3.2//E
 N'>\\n<HTML>\\n<HEAD>\\n<TITLE></TITLE>\\n</HEAD>\\n<BODY><p>Choose which 
 path your story will take.  This is a drop in anytime activity available t
 o all ages.</p>\n</BODY></HTML>
END:VEVENT
END:VCALENDAR
