BEGIN:VCALENDAR
VERSION:2.0
PRODID:-//192.232.223.72//NONSGML kigkonsult.se iCalcreator 2.20//
CALSCALE:GREGORIAN
METHOD:PUBLISH
X-WR-CALNAME:Greater Glen Eden
X-WR-CALDESC:Greater Glen Eden Community Website
X-FROM-URL:http://greatergleneden.org.nz
X-WR-TIMEZONE:Pacific/Auckland
BEGIN:VTIMEZONE
TZID:Pacific/Auckland
X-LIC-LOCATION:Pacific/Auckland
BEGIN:STANDARD
DTSTART:20180401T030000
TZOFFSETFROM:+1300
TZOFFSETTO:+1200
TZNAME:NZST
END:STANDARD
BEGIN:DAYLIGHT
DTSTART:20170924T020000
TZOFFSETFROM:+1200
TZOFFSETTO:+1300
TZNAME:NZDT
END:DAYLIGHT
END:VTIMEZONE
BEGIN:VEVENT
UID:ai1ec-300@greatergleneden.org.nz
DTSTAMP:20180124T113655Z
CATEGORIES:
CONTACT:www.facebook.com/glenedenlibrary
DESCRIPTION:Learn how to weave flowers\, make some for Glen Eden’s yarn bom
 bing project.
DTSTART;VALUE=DATE:20160712
DTEND;VALUE=DATE:20160713
LOCATION:Glen Eden Library
SEQUENCE:0
SUMMARY:Yarn Flower Making
URL:http://greatergleneden.org.nz/event/yarn-flower-making/
X-COST-TYPE:free
X-ALT-DESC;FMTTYPE=text/html:<!DOCTYPE HTML PUBLIC '-//W3C//DTD HTML 3.2//E
 N'>\\n<HTML>\\n<HEAD>\\n<TITLE></TITLE>\\n</HEAD>\\n<BODY><p>Learn how to 
 weave flowers\, make some for Glen Eden’s yarn bombing project.</p>\n</BOD
 Y></HTML>
END:VEVENT
END:VCALENDAR
