BEGIN:VCALENDAR
VERSION:2.0
PRODID:-//192.232.223.72//NONSGML kigkonsult.se iCalcreator 2.20//
CALSCALE:GREGORIAN
METHOD:PUBLISH
X-WR-CALNAME:Greater Glen Eden
X-WR-CALDESC:Greater Glen Eden Community Website
X-FROM-URL:http://greatergleneden.org.nz
X-WR-TIMEZONE:Pacific/Auckland
BEGIN:VTIMEZONE
TZID:Pacific/Auckland
X-LIC-LOCATION:Pacific/Auckland
BEGIN:STANDARD
DTSTART:20180401T030000
TZOFFSETFROM:+1300
TZOFFSETTO:+1200
TZNAME:NZST
END:STANDARD
BEGIN:DAYLIGHT
DTSTART:20170924T020000
TZOFFSETFROM:+1200
TZOFFSETTO:+1300
TZNAME:NZDT
END:DAYLIGHT
END:VTIMEZONE
BEGIN:VEVENT
UID:ai1ec-305@greatergleneden.org.nz
DTSTAMP:20180124T113746Z
CATEGORIES:
CONTACT:www.facebook.com/glenedenlibrary\; http://www.facebook.com/New Zeal
 andBlackStacks/
DESCRIPTION:From 9.00am.  Learn about cup stacking from our national repres
 entatives Black Stacks.
DTSTART;VALUE=DATE:20160719
DTEND;VALUE=DATE:20160720
LOCATION:Glen Eden Library
SEQUENCE:0
SUMMARY:Cup Stacking
URL:http://greatergleneden.org.nz/event/cup-stacking/
X-COST-TYPE:free
X-ALT-DESC;FMTTYPE=text/html:<!DOCTYPE HTML PUBLIC '-//W3C//DTD HTML 3.2//E
 N'>\\n<HTML>\\n<HEAD>\\n<TITLE></TITLE>\\n</HEAD>\\n<BODY><p>From 9.00am. 
  Learn about cup stacking from our national representatives Black Stacks.<
 /p>\n</BODY></HTML>
END:VEVENT
END:VCALENDAR
