BEGIN:VCALENDAR
VERSION:2.0
PRODID:-//192.232.223.72//NONSGML kigkonsult.se iCalcreator 2.20//
CALSCALE:GREGORIAN
METHOD:PUBLISH
X-WR-CALNAME:Greater Glen Eden
X-WR-CALDESC:Greater Glen Eden Community Website
X-FROM-URL:http://greatergleneden.org.nz
X-WR-TIMEZONE:Pacific/Auckland
BEGIN:VTIMEZONE
TZID:Pacific/Auckland
X-LIC-LOCATION:Pacific/Auckland
BEGIN:STANDARD
DTSTART:20180401T030000
TZOFFSETFROM:+1300
TZOFFSETTO:+1200
TZNAME:NZST
END:STANDARD
BEGIN:DAYLIGHT
DTSTART:20170924T020000
TZOFFSETFROM:+1200
TZOFFSETTO:+1300
TZNAME:NZDT
END:DAYLIGHT
END:VTIMEZONE
BEGIN:VEVENT
UID:ai1ec-421@greatergleneden.org.nz
DTSTAMP:20180124T113339Z
CATEGORIES:
CONTACT:Glen Eden Community House\; 818 2194
DESCRIPTION:Family Portrait with Jack & Jill\n$10 for sitting and receive a
  10 x 13 Portrait or $10 off your order
DTSTART;TZID=Pacific/Auckland:20170916T090000
DTEND;TZID=Pacific/Auckland:20170916T170000
LOCATION:Glen Eden Community House
SEQUENCE:0
SUMMARY:Glen Eden Community House Fundraiser
URL:http://greatergleneden.org.nz/event/glen-eden-community-house-fundraise
 r/
X-COST-TYPE:free
X-ALT-DESC;FMTTYPE=text/html:<!DOCTYPE HTML PUBLIC '-//W3C//DTD HTML 3.2//E
 N'>\\n<HTML>\\n<HEAD>\\n<TITLE></TITLE>\\n</HEAD>\\n<BODY><p>Family Portra
 it with Jack & Jill</p>\n<p>$10 for sitting and receive a 10 x 13 Portrait
  or $10 off your order</p>\n</BODY></HTML>
X-COST:$10
END:VEVENT
END:VCALENDAR
